BEGIN:VCALENDAR
PRODID:-//SINGPromos.com//NONSGML v1.0//EN
VERSION:2.0
CALSCALE:GREGORIAN
METHOD:PUBLISH
X-WR-CALNAME:SINGPromos.com
X-ORIGINAL-URL:http://singpromos.com
X-WR-CALDESC:Events for SINGPromos.com
BEGIN:VEVENT
DTSTART:20140612T000000
DTEND:20140618T235900
DTSTAMP:20260420T035129
CREATED:20140612T115208
LAST-MODIFIED:20140612T115208
UID:100705@http://singpromos.com
SUMMARY:Gillette 29% OFF Fusion Proglide Shaver Promo 12 - 18 Jun 2014
DESCRIPTION:All the Gillette Proglide sets listed below are going at 29% Off.. For more information, visit [ http://singpromos.com/personal-care/gillette-29-off-fusion-proglide-shaver-promo-12-18-jun-2014-100705/ ]. 
LOCATION:
URL:http://singpromos.com/personal-care/gillette-29-off-fusion-proglide-shaver-promo-12-18-jun-2014-100705/
END:VEVENT
END:VCALENDAR