BEGIN:VCALENDAR
PRODID:-//SINGPromos.com//NONSGML v1.0//EN
VERSION:2.0
CALSCALE:GREGORIAN
METHOD:PUBLISH
X-WR-CALNAME:SINGPromos.com
X-ORIGINAL-URL:http://singpromos.com
X-WR-CALDESC:Events for SINGPromos.com
BEGIN:VEVENT
DTSTART:20140601T000000
DTEND:20140731T235900
DTSTAMP:20260420T031410
CREATED:20140621T190050
LAST-MODIFIED:20140621T190050
UID:102127@http://singpromos.com
SUMMARY:Karcher Vacuum Cleaner Offers 1 Jun - 31 Jul 2014
DESCRIPTION:Check out some Karcher Great Singapore Sale offers, valid till 31 July 2014. For more information, visit [ http://singpromos.com/home-appliances/karcher-vacuum-cleaner-offers-1-jun-31-jul-2014-102127/ ]. 
LOCATION:
URL:http://singpromos.com/home-appliances/karcher-vacuum-cleaner-offers-1-jun-31-jul-2014-102127/
END:VEVENT
END:VCALENDAR