BEGIN:VCALENDAR
PRODID:-//SINGPromos.com//NONSGML v1.0//EN
VERSION:2.0
CALSCALE:GREGORIAN
METHOD:PUBLISH
X-WR-CALNAME:SINGPromos.com
X-ORIGINAL-URL:http://singpromos.com
X-WR-CALDESC:Events for SINGPromos.com
BEGIN:VEVENT
DTSTART:20140703T000000
DTEND:20140706T235900
DTSTAMP:20260420T062107
CREATED:20140628T164259
LAST-MODIFIED:20140630T002232
UID:102949@http://singpromos.com
SUMMARY:Lock & Lock Warehouse SALE 3 - 6 Jul 2014
DESCRIPTION:Enjoy up to 70% OFF!. For more information, visit [ http://singpromos.com/warehouse-sales/lock-lock-warehouse-sale-3-6-jul-2014-102949/ ]. 
LOCATION:2 Pandan Avenue, 609382
URL:http://singpromos.com/warehouse-sales/lock-lock-warehouse-sale-3-6-jul-2014-102949/
END:VEVENT
END:VCALENDAR