BEGIN:VCALENDAR
PRODID:-//SINGPromos.com//NONSGML v1.0//EN
VERSION:2.0
CALSCALE:GREGORIAN
METHOD:PUBLISH
X-WR-CALNAME:SINGPromos.com
X-ORIGINAL-URL:http://singpromos.com
X-WR-CALDESC:Events for SINGPromos.com
BEGIN:VEVENT
DTSTART:20140702T000000
DTEND:20140707T235900
DTSTAMP:20260420T045224
CREATED:20140702T195318
LAST-MODIFIED:20140703T145844
UID:103394@http://singpromos.com
SUMMARY:Toys "R" Us Grand Opening Specials @ Suntec 2 - 7 Jul 2014
DESCRIPTION:Branded Toys Sale at Suntec City East Atrium. For more information, visit [ http://singpromos.com/kids/toys-r-us-grand-opening-specials-suntec-2-7-jul-2014-103394/ ]. 
LOCATION:038983
URL:http://singpromos.com/kids/toys-r-us-grand-opening-specials-suntec-2-7-jul-2014-103394/
END:VEVENT
END:VCALENDAR