BEGIN:VCALENDAR
PRODID:-//SINGPromos.com//NONSGML v1.0//EN
VERSION:2.0
CALSCALE:GREGORIAN
METHOD:PUBLISH
X-WR-CALNAME:SINGPromos.com
X-ORIGINAL-URL:http://singpromos.com
X-WR-CALDESC:Events for SINGPromos.com
BEGIN:VEVENT
DTSTART:20140807T000000
DTEND:20140810T235900
DTSTAMP:20260420T073147
CREATED:20140807T152956
LAST-MODIFIED:20140807T152956
UID:108015@http://singpromos.com
SUMMARY:Golf House $49 National Day Treats 7 - 10 Aug 2014
DESCRIPTION:S$49 Shopping Treats for a limited time. For more information, visit [ http://singpromos.com/sports/golf-house-49-national-day-treats-7-10-aug-2014-108015/ ]. 
LOCATION:
URL:http://singpromos.com/sports/golf-house-49-national-day-treats-7-10-aug-2014-108015/
END:VEVENT
END:VCALENDAR