BEGIN:VCALENDAR
PRODID:-//SINGPromos.com//NONSGML v1.0//EN
VERSION:2.0
CALSCALE:GREGORIAN
METHOD:PUBLISH
X-WR-CALNAME:SINGPromos.com
X-ORIGINAL-URL:http://singpromos.com
X-WR-CALDESC:Events for SINGPromos.com
BEGIN:VEVENT
DTSTART:20140904T000000
DTEND:20140914T235900
DTSTAMP:20260420T003452
CREATED:20140901T165719
LAST-MODIFIED:20140911T163642
UID:111108@http://singpromos.com
SUMMARY:Robinsons Expo @ Singapore Expo 4 - 14 Sep 2014
DESCRIPTION:Discounts are expected to be going at up to 70% off. For more information, visit [ http://singpromos.com/happenings/robinsons-expo-singapore-expo-4-14-sep-2014-111108/ ]. 
LOCATION:486150
URL:http://singpromos.com/happenings/robinsons-expo-singapore-expo-4-14-sep-2014-111108/
END:VEVENT
END:VCALENDAR