BEGIN:VCALENDAR
PRODID:-//SINGPromos.com//NONSGML v1.0//EN
VERSION:2.0
CALSCALE:GREGORIAN
METHOD:PUBLISH
X-WR-CALNAME:SINGPromos.com
X-ORIGINAL-URL:http://singpromos.com
X-WR-CALDESC:Events for SINGPromos.com
BEGIN:VEVENT
DTSTART:20140919T000000
DTEND:20140928T235900
DTSTAMP:20260420T035909
CREATED:20140919T194451
LAST-MODIFIED:20140919T194451
UID:113441@http://singpromos.com
SUMMARY:Tangs La Gourmet & Greenpan Kitchenware Offers 19 - 28 Sep 2014
DESCRIPTION:Check out some offers from La Gourmet & Greenpan now till 28 Sep 2014 (Sun). For more information, visit [ http://singpromos.com/kitchenware-cookware/tangs-la-gourmet-greenpan-kitchenware-offers-19-28-sep-2014-113441/ ]. 
LOCATION:
URL:http://singpromos.com/kitchenware-cookware/tangs-la-gourmet-greenpan-kitchenware-offers-19-28-sep-2014-113441/
END:VEVENT
END:VCALENDAR