BEGIN:VCALENDAR
PRODID:-//SINGPromos.com//NONSGML v1.0//EN
VERSION:2.0
CALSCALE:GREGORIAN
METHOD:PUBLISH
X-WR-CALNAME:SINGPromos.com
X-ORIGINAL-URL:http://singpromos.com
X-WR-CALDESC:Events for SINGPromos.com
BEGIN:VEVENT
DTSTART:20141004T000000
DTEND:20141010T235900
DTSTAMP:20260420T173003
CREATED:20141004T125506
LAST-MODIFIED:20141006T140944
UID:115631@http://singpromos.com
SUMMARY:M1 Smartphones, Tablets & Broadband Offers 4 - 10 Oct 2014
DESCRIPTION:Fibre Broadband 1Gbps @ $49/mth. Fibre Broadband 200Mbps @ $39/mth. Apple iPhone 6 plus stocks available at selected outlets and more. For more information, visit [ http://singpromos.com/telecoms/m1-smartphones-tablets-broadband-offers-4-10-oct-2014-115631/ ]. 
LOCATION:
URL:http://singpromos.com/telecoms/m1-smartphones-tablets-broadband-offers-4-10-oct-2014-115631/
END:VEVENT
END:VCALENDAR