BEGIN:VCALENDAR
PRODID:-//SINGPromos.com//NONSGML v1.0//EN
VERSION:2.0
CALSCALE:GREGORIAN
METHOD:PUBLISH
X-WR-CALNAME:SINGPromos.com
X-ORIGINAL-URL:http://singpromos.com
X-WR-CALDESC:Events for SINGPromos.com
BEGIN:VEVENT
DTSTART:20141025T000000
DTEND:20141031T235900
DTSTAMP:20260420T173001
CREATED:20141025T114858
LAST-MODIFIED:20141029T145848
UID:118670@http://singpromos.com
SUMMARY:M1 Smartphones, Tablets & Home/Mobile Broadband Offers 25 - 31 Oct 2014
DESCRIPTION:M1 has released their price plans for the Apple iPad Air 2 and Apple iPad Mini 3. Fibre Broadband 1Gbps @ $49/mth still available. For more information, visit [ http://singpromos.com/telecoms/m1-smartphones-tablets-homemobile-broadband-offers-25-31-oct-2014-118670/ ]. 
LOCATION:
URL:http://singpromos.com/telecoms/m1-smartphones-tablets-homemobile-broadband-offers-25-31-oct-2014-118670/
END:VEVENT
END:VCALENDAR