BEGIN:VCALENDAR
PRODID:-//SINGPromos.com//NONSGML v1.0//EN
VERSION:2.0
CALSCALE:GREGORIAN
METHOD:PUBLISH
X-WR-CALNAME:SINGPromos.com
X-ORIGINAL-URL:http://singpromos.com
X-WR-CALDESC:Events for SINGPromos.com
BEGIN:VEVENT
DTSTART:20141025T000000
DTEND:20141031T235900
DTSTAMP:20260420T173000
CREATED:20141025T122131
LAST-MODIFIED:20141029T140346
UID:118682@http://singpromos.com
SUMMARY:Singtel Smartphones, Tablets, Broadband & Mio TV Offers 25 - 31 Oct 2014
DESCRIPTION:Unlimited Fibre Speed Plan at $69.90/mth. Top up $45/mth for a Samsung 48" Series 6 Full HD Smart LED TV.. For more information, visit [ http://singpromos.com/telecoms/singtel-smartphones-tablets-broadband-mio-tv-offers-25-31-oct-2014-118682/ ]. 
LOCATION:
URL:http://singpromos.com/telecoms/singtel-smartphones-tablets-broadband-mio-tv-offers-25-31-oct-2014-118682/
END:VEVENT
END:VCALENDAR