BEGIN:VCALENDAR
PRODID:-//SINGPromos.com//NONSGML v1.0//EN
VERSION:2.0
CALSCALE:GREGORIAN
METHOD:PUBLISH
X-WR-CALNAME:SINGPromos.com
X-ORIGINAL-URL:http://singpromos.com
X-WR-CALDESC:Events for SINGPromos.com
BEGIN:VEVENT
DTSTART:20141101T000000
DTEND:20141107T235900
DTSTAMP:20260420T173022
CREATED:20141101T120258
LAST-MODIFIED:20141105T233136
UID:119440@http://singpromos.com
SUMMARY:M1 Smartphones, Tablets & Home/Mobile Broadband Offers 1 - 7 Nov 2014
DESCRIPTION:Get $100 off any Handset at Handphone Shop with every new line sign-up. Fibre Broadband 1Gbps @ $49/mth is still available. For more information, visit [ http://singpromos.com/telecoms/m1-smartphones-tablets-homemobile-broadband-offers-1-7-nov-2014-119440/ ]. 
LOCATION:
URL:http://singpromos.com/telecoms/m1-smartphones-tablets-homemobile-broadband-offers-1-7-nov-2014-119440/
END:VEVENT
END:VCALENDAR