BEGIN:VCALENDAR
PRODID:-//SINGPromos.com//NONSGML v1.0//EN
VERSION:2.0
CALSCALE:GREGORIAN
METHOD:PUBLISH
X-WR-CALNAME:SINGPromos.com
X-ORIGINAL-URL:http://singpromos.com
X-WR-CALDESC:Events for SINGPromos.com
BEGIN:VEVENT
DTSTART:20141114T000000
DTEND:20150104T235900
DTSTAMP:20260420T073201
CREATED:20141114T124058
LAST-MODIFIED:20141114T124058
UID:121316@http://singpromos.com
SUMMARY:Golf House Christmas Golf Sale Offers 14 Nov 2014 - 4 Jan 2015
DESCRIPTION:Enjoy discounts of up to 80% off. For more information, visit [ http://singpromos.com/sports/golf-house-christmas-golf-sale-offers-14-nov-2014-4-jan-2015-121316/ ]. 
LOCATION:
URL:http://singpromos.com/sports/golf-house-christmas-golf-sale-offers-14-nov-2014-4-jan-2015-121316/
END:VEVENT
END:VCALENDAR