BEGIN:VCALENDAR
PRODID:-//SINGPromos.com//NONSGML v1.0//EN
VERSION:2.0
CALSCALE:GREGORIAN
METHOD:PUBLISH
X-WR-CALNAME:SINGPromos.com
X-ORIGINAL-URL:http://singpromos.com
X-WR-CALDESC:Events for SINGPromos.com
BEGIN:VEVENT
DTSTART:20141115T000000
DTEND:20141116T235900
DTSTAMP:20260420T050020
CREATED:20141114T123729
LAST-MODIFIED:20141114T123729
UID:121320@http://singpromos.com
SUMMARY:Brandt Display Sets Warehouse Sale 15 - 16 Nov 2014
DESCRIPTION:Sale up to 80% off. For more information, visit [ http://singpromos.com/warehouse-sales/brandt-display-sets-warehouse-sale-15-16-nov-2014-121320/ ]. 
LOCATION:7 Jalan Kilang, 159407
URL:http://singpromos.com/warehouse-sales/brandt-display-sets-warehouse-sale-15-16-nov-2014-121320/
END:VEVENT
END:VCALENDAR