BEGIN:VCALENDAR
PRODID:-//SINGPromos.com//NONSGML v1.0//EN
VERSION:2.0
CALSCALE:GREGORIAN
METHOD:PUBLISH
X-WR-CALNAME:SINGPromos.com
X-ORIGINAL-URL:http://singpromos.com
X-WR-CALDESC:Events for SINGPromos.com
BEGIN:VEVENT
DTSTART:20141119T000000
DTEND:20141130T235900
DTSTAMP:20260420T003451
CREATED:20141119T174144
LAST-MODIFIED:20141130T154941
UID:122094@http://singpromos.com
SUMMARY:Robinsons Expo @ Singapore Expo 19 - 30 Nov 2014
DESCRIPTION:Enjoy up to 70% off. For more information, visit [ http://singpromos.com/happenings/robinsons-expo-singapore-expo-19-30-nov-2014-122094/ ]. 
LOCATION:486150
URL:http://singpromos.com/happenings/robinsons-expo-singapore-expo-19-30-nov-2014-122094/
END:VEVENT
END:VCALENDAR