BEGIN:VCALENDAR
PRODID:-//SINGPromos.com//NONSGML v1.0//EN
VERSION:2.0
CALSCALE:GREGORIAN
METHOD:PUBLISH
X-WR-CALNAME:SINGPromos.com
X-ORIGINAL-URL:http://singpromos.com
X-WR-CALDESC:Events for SINGPromos.com
BEGIN:VEVENT
DTSTART:20141120T000000
DTEND:20141231T235900
DTSTAMP:20260420T031410
CREATED:20141123T120827
LAST-MODIFIED:20141123T120827
UID:122869@http://singpromos.com
SUMMARY:Karcher Vacuum Cleaners Year End Sale Offers 20 Nov - 31 Dec 2014
DESCRIPTION:Available in all leading authorised dealer stores. For more information, visit [ http://singpromos.com/home-appliances/karcher-vacuum-cleaners-year-end-sale-offers-20-nov-31-dec-2014-122869/ ]. 
LOCATION:
URL:http://singpromos.com/home-appliances/karcher-vacuum-cleaners-year-end-sale-offers-20-nov-31-dec-2014-122869/
END:VEVENT
END:VCALENDAR