BEGIN:VCALENDAR
PRODID:-//SINGPromos.com//NONSGML v1.0//EN
VERSION:2.0
CALSCALE:GREGORIAN
METHOD:PUBLISH
X-WR-CALNAME:SINGPromos.com
X-ORIGINAL-URL:http://singpromos.com
X-WR-CALDESC:Events for SINGPromos.com
BEGIN:VEVENT
DTSTART:20150101T000000
DTEND:20150104T235900
DTSTAMP:20260420T062107
CREATED:20141218T153234
LAST-MODIFIED:20150103T174939
UID:127161@http://singpromos.com
SUMMARY:Lock & Lock Warehouse SALE 1 - 4 Jan 2015
DESCRIPTION:Enjoy up to 70% OFF!. For more information, visit [ http://singpromos.com/warehouse-sales/lock-lock-warehouse-sale-1-4-jan-2015-127161/ ]. 
LOCATION:2 Pandan Avenue, 609382
URL:http://singpromos.com/warehouse-sales/lock-lock-warehouse-sale-1-4-jan-2015-127161/
END:VEVENT
END:VCALENDAR