BEGIN:VCALENDAR
PRODID:-//SINGPromos.com//NONSGML v1.0//EN
VERSION:2.0
CALSCALE:GREGORIAN
METHOD:PUBLISH
X-WR-CALNAME:SINGPromos.com
X-ORIGINAL-URL:http://singpromos.com
X-WR-CALDESC:Events for SINGPromos.com
BEGIN:VEVENT
DTSTART:20150126T000000
DTEND:20150201T235900
DTSTAMP:20260420T005758
CREATED:20150125T124633
LAST-MODIFIED:20150125T124633
UID:132656@http://singpromos.com
SUMMARY:Tracyeinny Mega Sale @ China Square 26 Jan 2015
DESCRIPTION:Prices starting from $4.90. Shoes, accessories, belts nothing above $9.90. For more information, visit [ http://singpromos.com/fashion-accessories/tracyeinny-mega-sale-china-square-26-jan-2015-132656/ ]. 
LOCATION:048423
URL:http://singpromos.com/fashion-accessories/tracyeinny-mega-sale-china-square-26-jan-2015-132656/
END:VEVENT
END:VCALENDAR