BEGIN:VCALENDAR
PRODID:-//SINGPromos.com//NONSGML v1.0//EN
VERSION:2.0
CALSCALE:GREGORIAN
METHOD:PUBLISH
X-WR-CALNAME:SINGPromos.com
X-ORIGINAL-URL:http://singpromos.com
X-WR-CALDESC:Events for SINGPromos.com
BEGIN:VEVENT
DTSTART:20150316T000000
DTEND:20150323T235900
DTSTAMP:20260420T055711
CREATED:20150310T132159
LAST-MODIFIED:20150319T015435
UID:138605@http://singpromos.com
SUMMARY:Aibi Warehouse Sale 16 - 23 Mar 2015
DESCRIPTION:Cycles from $90, Treadmills from $500 and a ide range of new and Demo sets. For more information, visit [ http://singpromos.com/warehouse-sales/aibi-warehouse-sale-12-23-mar-2015-138605/ ]. 
LOCATION:50 Yishun Industrial Park A, 768725
URL:http://singpromos.com/warehouse-sales/aibi-warehouse-sale-12-23-mar-2015-138605/
END:VEVENT
END:VCALENDAR