BEGIN:VCALENDAR
PRODID:-//SINGPromos.com//NONSGML v1.0//EN
VERSION:2.0
CALSCALE:GREGORIAN
METHOD:PUBLISH
X-WR-CALNAME:SINGPromos.com
X-ORIGINAL-URL:http://singpromos.com
X-WR-CALDESC:Events for SINGPromos.com
BEGIN:VEVENT
DTSTART:20150402T000000
DTEND:20150412T235900
DTSTAMP:20260420T003431
CREATED:20150401T201949
LAST-MODIFIED:20150411T132602
UID:140865@http://singpromos.com
SUMMARY:Robinsons Family & Travel Bazaar @ Singapore Expo 2 - 12 Apr 2015
DESCRIPTION:Enjoy up to 70% on brands like American Tourister, Delsey, Perllini and VitaHealth, as well as special purchase-with-purchase.. For more information, visit [ http://singpromos.com/happenings/robinsons-family-travel-bazaar-singapore-expo-2-12-apr-2015-140865/ ]. 
LOCATION:486150
URL:http://singpromos.com/happenings/robinsons-family-travel-bazaar-singapore-expo-2-12-apr-2015-140865/
END:VEVENT
END:VCALENDAR