BEGIN:VCALENDAR
PRODID:-//SINGPromos.com//NONSGML v1.0//EN
VERSION:2.0
CALSCALE:GREGORIAN
METHOD:PUBLISH
X-WR-CALNAME:SINGPromos.com
X-ORIGINAL-URL:http://singpromos.com
X-WR-CALDESC:Events for SINGPromos.com
BEGIN:VEVENT
DTSTART:20150421T000000
DTEND:20150503T235900
DTSTAMP:20260420T055706
CREATED:20150420T155628
LAST-MODIFIED:20150423T124437
UID:143679@http://singpromos.com
SUMMARY:Aibi Warehouse Sale 21 Apr - 3 May 2015
DESCRIPTION:Get your own equipment at up to 70% off usual retail prices. For more information, visit [ http://singpromos.com/warehouse-sales/aibi-warehouse-sale-21-apr-3-may-2015-143679/ ]. 
LOCATION:50 Yishun Industrial Park A, 768725
URL:http://singpromos.com/warehouse-sales/aibi-warehouse-sale-21-apr-3-may-2015-143679/
END:VEVENT
END:VCALENDAR