BEGIN:VCALENDAR
PRODID:-//SINGPromos.com//NONSGML v1.0//EN
VERSION:2.0
CALSCALE:GREGORIAN
METHOD:PUBLISH
X-WR-CALNAME:SINGPromos.com
X-ORIGINAL-URL:http://singpromos.com
X-WR-CALDESC:Events for SINGPromos.com
BEGIN:VEVENT
DTSTART:20150425T000000
DTEND:20150426T235900
DTSTAMP:20260420T050013
CREATED:20150424T130101
LAST-MODIFIED:20150424T130101
UID:144188@http://singpromos.com
SUMMARY:Brandt Display Sets Warehouse Sale 25 - 26 Apr 2015
DESCRIPTION:Enjoy up to 80% off selected items. For more information, visit [ http://singpromos.com/warehouse-sales/brandt-display-sets-warehouse-sale-25-26-apr-2015-144188/ ]. 
LOCATION:7 Jalan Kilang, 159407
URL:http://singpromos.com/warehouse-sales/brandt-display-sets-warehouse-sale-25-26-apr-2015-144188/
END:VEVENT
END:VCALENDAR