BEGIN:VCALENDAR
PRODID:-//SINGPromos.com//NONSGML v1.0//EN
VERSION:2.0
CALSCALE:GREGORIAN
METHOD:PUBLISH
X-WR-CALNAME:SINGPromos.com
X-ORIGINAL-URL:http://singpromos.com
X-WR-CALDESC:Events for SINGPromos.com
BEGIN:VEVENT
DTSTART:20150529T000000
DTEND:20150531T235900
DTSTAMP:20260422T080026
CREATED:20150517T155742
LAST-MODIFIED:20150528T113055
UID:147547@http://singpromos.com
SUMMARY:Consumer Electronics Exhibition (CEE 2015) @ Suntec Singapore 29 - 31 May 2015
DESCRIPTION:Participating Brands include Acer, Apple, Asus, Dell, Epson, HP, Lenovo, Microsoft, MSI, MyRepublic, Razer, Samsung, SanDisk and more. For more information, visit [ http://singpromos.com/happenings/consumer-electronics-exhibition-cee-2015-suntec-singapore-29-31-may-2015-147547/ ]. 
LOCATION:039593
URL:http://singpromos.com/happenings/consumer-electronics-exhibition-cee-2015-suntec-singapore-29-31-may-2015-147547/
END:VEVENT
END:VCALENDAR