BEGIN:VCALENDAR
PRODID:-//SINGPromos.com//NONSGML v1.0//EN
VERSION:2.0
CALSCALE:GREGORIAN
METHOD:PUBLISH
X-WR-CALNAME:SINGPromos.com
X-ORIGINAL-URL:http://singpromos.com
X-WR-CALDESC:Events for SINGPromos.com
BEGIN:VEVENT
DTSTART:20150702T000000
DTEND:20150705T235900
DTSTAMP:20260420T062020
CREATED:20150610T110035
LAST-MODIFIED:20150610T110035
UID:150455@http://singpromos.com
SUMMARY:Lock & Lock Warehouse Sale 2 - 5 Jul 2015
DESCRIPTION:Enjoy up to 70% off. For more information, visit [ http://singpromos.com/warehouse-sales/lock-lock-warehouse-sale-2-5-jul-2015-150455/ ]. 
LOCATION:2 Pandan Avenue, 609382
URL:http://singpromos.com/warehouse-sales/lock-lock-warehouse-sale-2-5-jul-2015-150455/
END:VEVENT
END:VCALENDAR