BEGIN:VCALENDAR
PRODID:-//SINGPromos.com//NONSGML v1.0//EN
VERSION:2.0
CALSCALE:GREGORIAN
METHOD:PUBLISH
X-WR-CALNAME:SINGPromos.com
X-ORIGINAL-URL:http://singpromos.com
X-WR-CALDESC:Events for SINGPromos.com
BEGIN:VEVENT
DTSTART:20150716T000000
DTEND:20150726T235900
DTSTAMP:20260420T003452
CREATED:20150707T164350
LAST-MODIFIED:20150725T173151
UID:153157@http://singpromos.com
SUMMARY:Robinsons Expo @ Singapore Expo 16 - 26 Jul 2015
DESCRIPTION:From toiletries, health supplements, International & Local Designers Wear, Shoes & Watches, Watches, Menwear, sports wear, Bedlinen, homewares and children. For more information, visit [ http://singpromos.com/happenings/robinsons-expo-singapore-expo-16-26-jul-2015-153157/ ]. 
LOCATION:486150
URL:http://singpromos.com/happenings/robinsons-expo-singapore-expo-16-26-jul-2015-153157/
END:VEVENT
END:VCALENDAR