BEGIN:VCALENDAR
PRODID:-//SINGPromos.com//NONSGML v1.0//EN
VERSION:2.0
CALSCALE:GREGORIAN
METHOD:PUBLISH
X-WR-CALNAME:SINGPromos.com
X-ORIGINAL-URL:http://singpromos.com
X-WR-CALDESC:Events for SINGPromos.com
BEGIN:VEVENT
DTSTART:20150715T000000
DTEND:20150719T235900
DTSTAMP:20260419T230754
CREATED:20150715T130451
LAST-MODIFIED:20150715T130451
UID:153835@http://singpromos.com
SUMMARY:Tracyeinny 40% Off Storewide Promotion 15 - 19 Jul 2015
DESCRIPTION:Enjoy 40% off storewide and sitewide at Tracyeinny for a limited time. For more information, visit [ http://singpromos.com/fashion-accessories/tracyeinny-40-off-storewide-promotion-15-19-jul-2015-153835/ ]. 
LOCATION:
URL:http://singpromos.com/fashion-accessories/tracyeinny-40-off-storewide-promotion-15-19-jul-2015-153835/
END:VEVENT
END:VCALENDAR