BEGIN:VCALENDAR
PRODID:-//SINGPromos.com//NONSGML v1.0//EN
VERSION:2.0
CALSCALE:GREGORIAN
METHOD:PUBLISH
X-WR-CALNAME:SINGPromos.com
X-ORIGINAL-URL:http://singpromos.com
X-WR-CALDESC:Events for SINGPromos.com
BEGIN:VEVENT
DTSTART:20150914T000000
DTEND:20150918T235900
DTSTAMP:20260420T055711
CREATED:20150913T193754
LAST-MODIFIED:20150913T193754
UID:159717@http://singpromos.com
SUMMARY:Golf House Sale @ Funan 14 - 18 Sep 2015
DESCRIPTION:Save up to 75% on Golf Equipment, Clothing and Accessories. For more information, visit [ http://singpromos.com/sports/golf-house-sale-funan-14-18-sep-2015-159717/ ]. 
LOCATION:179097
URL:http://singpromos.com/sports/golf-house-sale-funan-14-18-sep-2015-159717/
END:VEVENT
END:VCALENDAR