BEGIN:VCALENDAR
PRODID:-//SINGPromos.com//NONSGML v1.0//EN
VERSION:2.0
CALSCALE:GREGORIAN
METHOD:PUBLISH
X-WR-CALNAME:SINGPromos.com
X-ORIGINAL-URL:http://singpromos.com
X-WR-CALDESC:Events for SINGPromos.com
BEGIN:VEVENT
DTSTART:20150917T000000
DTEND:20150922T235900
DTSTAMP:20260419T230743
CREATED:20150917T123048
LAST-MODIFIED:20150917T123048
UID:160182@http://singpromos.com
SUMMARY:Tracyeinny 50% Off Accessories Promotion 17 - 22 Sep 2015
DESCRIPTION:Enjoy 50% off all fashion accessories at Tracyeinny for a limited time. For more information, visit [ http://singpromos.com/fashion-accessories/tracyeinny-50-off-accessories-promotion-17-22-sep-2015-160182/ ]. 
LOCATION:
URL:http://singpromos.com/fashion-accessories/tracyeinny-50-off-accessories-promotion-17-22-sep-2015-160182/
END:VEVENT
END:VCALENDAR