BEGIN:VCALENDAR
PRODID:-//SINGPromos.com//NONSGML v1.0//EN
VERSION:2.0
CALSCALE:GREGORIAN
METHOD:PUBLISH
X-WR-CALNAME:SINGPromos.com
X-ORIGINAL-URL:http://singpromos.com
X-WR-CALDESC:Events for SINGPromos.com
BEGIN:VEVENT
DTSTART:20151010T000000
DTEND:20151012T235900
DTSTAMP:20260422T032832
CREATED:20151010T200554
LAST-MODIFIED:20151012T141142
UID:163199@http://singpromos.com
SUMMARY:Courts Massive Clear-Out Sale 10 - 12 Oct 2015
DESCRIPTION:Courts is having a 3 Days Massive Clear-Out Extended at all stores and online. For more information, visit [ http://singpromos.com/department-stores/courts-massive-clear-out-sale-10-12-oct-2015-163199/ ]. 
LOCATION:
URL:http://singpromos.com/department-stores/courts-massive-clear-out-sale-10-12-oct-2015-163199/
END:VEVENT
END:VCALENDAR