BEGIN:VCALENDAR
PRODID:-//SINGPromos.com//NONSGML v1.0//EN
VERSION:2.0
CALSCALE:GREGORIAN
METHOD:PUBLISH
X-WR-CALNAME:SINGPromos.com
X-ORIGINAL-URL:http://singpromos.com
X-WR-CALDESC:Events for SINGPromos.com
BEGIN:VEVENT
DTSTART:20151106T000000
DTEND:20151112T235900
DTSTAMP:20260424T032420
CREATED:20151104T091258
LAST-MODIFIED:20151104T002247
UID:165119@http://singpromos.com
SUMMARY:King Koil Promotion @ Isetan Scotts 6 - 12 Nov 2015
DESCRIPTION:Enjoy up to 50% off King Koil furniture & mattress. For more information, visit [ http://singpromos.com/happenings/king-koil-promotion-isetan-scotts-6-12-nov-2015-165119/ ]. 
LOCATION:238868
URL:http://singpromos.com/happenings/king-koil-promotion-isetan-scotts-6-12-nov-2015-165119/
END:VEVENT
END:VCALENDAR