BEGIN:VCALENDAR
PRODID:-//SINGPromos.com//NONSGML v1.0//EN
VERSION:2.0
CALSCALE:GREGORIAN
METHOD:PUBLISH
X-WR-CALNAME:SINGPromos.com
X-ORIGINAL-URL:http://singpromos.com
X-WR-CALDESC:Events for SINGPromos.com
BEGIN:VEVENT
DTSTART:20151113T000000
DTEND:20151125T235900
DTSTAMP:20260424T032312
CREATED:20151111T153309
LAST-MODIFIED:20151104T003503
UID:165129@http://singpromos.com
SUMMARY:King Koil & Stylemaster Promotion @ Westgate 13 - 25 Nov 2015
DESCRIPTION:Enjoy up to 50% off King Koil, Stylemaster Furniture, Mattress, Bedlinen & Bedding. For more information, visit [ http://singpromos.com/happenings/king-koil-stylemaster-promotion-westgate-13-25-nov-2015-165129/ ]. 
LOCATION:608532
URL:http://singpromos.com/happenings/king-koil-stylemaster-promotion-westgate-13-25-nov-2015-165129/
END:VEVENT
END:VCALENDAR