BEGIN:VCALENDAR
PRODID:-//SINGPromos.com//NONSGML v1.0//EN
VERSION:2.0
CALSCALE:GREGORIAN
METHOD:PUBLISH
X-WR-CALNAME:SINGPromos.com
X-ORIGINAL-URL:http://singpromos.com
X-WR-CALDESC:Events for SINGPromos.com
BEGIN:VEVENT
DTSTART:20151128T000000
DTEND:20151129T235900
DTSTAMP:20260420T045224
CREATED:20151127T235408
LAST-MODIFIED:20151127T235408
UID:167415@http://singpromos.com
SUMMARY:Brandt Warehouse Sale 28 - 29 Nov 2015
DESCRIPTION:Brandt will be having a Warehouse Sale from 28 November to 29 November 2015, 10am to 5pm daily. For more information, visit [ http://singpromos.com/warehouse-sales/brandt-warehouse-sale-28-29-nov-2015-167415/ ]. 
LOCATION:7 Jalan Kilang, 159407
URL:http://singpromos.com/warehouse-sales/brandt-warehouse-sale-28-29-nov-2015-167415/
END:VEVENT
END:VCALENDAR