BEGIN:VCALENDAR
PRODID:-//SINGPromos.com//NONSGML v1.0//EN
VERSION:2.0
CALSCALE:GREGORIAN
METHOD:PUBLISH
X-WR-CALNAME:SINGPromos.com
X-ORIGINAL-URL:http://singpromos.com
X-WR-CALDESC:Events for SINGPromos.com
BEGIN:VEVENT
DTSTART:20160214T000000
DTEND:20160214T235900
DTSTAMP:20260420T062107
CREATED:20160212T105316
LAST-MODIFIED:20160211T203319
UID:172204@http://singpromos.com
SUMMARY:Ben & Jerry's 20% Off Two Hot Fudge Sundaes Valentine's Day Promo 14 Feb 2016
DESCRIPTION:Ben & Jerry's has a sweet deal for fans this Valentine's Day! Purchase any 2 hot fudge sundaes and they'll get 20% off.. For more information, visit [ http://singpromos.com/dining-restaurants-food/ben-jerrys-20-off-two-hot-fudge-sundaes-valentines-day-promo-14-feb-2016-172204/ ]. 
LOCATION:
URL:http://singpromos.com/dining-restaurants-food/ben-jerrys-20-off-two-hot-fudge-sundaes-valentines-day-promo-14-feb-2016-172204/
END:VEVENT
END:VCALENDAR