BEGIN:VCALENDAR
PRODID:-//SINGPromos.com//NONSGML v1.0//EN
VERSION:2.0
CALSCALE:GREGORIAN
METHOD:PUBLISH
X-WR-CALNAME:SINGPromos.com
X-ORIGINAL-URL:http://singpromos.com
X-WR-CALDESC:Events for SINGPromos.com
BEGIN:VEVENT
DTSTART:20111027T000000
DTEND:20111101T235900
DTSTAMP:20260420T002429
CREATED:20111025T200521
LAST-MODIFIED:20111025T200735
UID:17263@http://singpromos.com
SUMMARY:Robinsons Expo 2011 Sale @ Singapore Expo 27 Oct - 1 Nov 2011
DESCRIPTION:Robinsons will be having a sale at Singapore Expo from 27 October to 1 November 2011, 1030am to 10pm at Singapore Expo, Hall 3 with up to 70% off. Cardmembers preview on 27 October to 28 October 2011. Get $5 off with a minimum nett purchase of $50 in a single receipt.. For more information, visit [ http://singpromos.com/department-stores/robinsons-expo-2011-sale-singapore-expo-27-oct-1-nov-2011-17263/ ]. 
LOCATION:
URL:http://singpromos.com/department-stores/robinsons-expo-2011-sale-singapore-expo-27-oct-1-nov-2011-17263/
END:VEVENT
END:VCALENDAR