BEGIN:VCALENDAR
PRODID:-//SINGPromos.com//NONSGML v1.0//EN
VERSION:2.0
CALSCALE:GREGORIAN
METHOD:PUBLISH
X-WR-CALNAME:SINGPromos.com
X-ORIGINAL-URL:http://singpromos.com
X-WR-CALDESC:Events for SINGPromos.com
BEGIN:VEVENT
DTSTART:20111028T000000
DTEND:20111030T235900
DTSTAMP:20260420T051139
CREATED:20111029T024144
LAST-MODIFIED:20111029T024144
UID:17510@http://singpromos.com
SUMMARY:Tecno, Tecnogas & Uno Warehouse Sale 28 - 30 Oct 2011
DESCRIPTION:Singapore Radio & Industry is having a warehouse sale for Tecno, Technogas and UNO products till 30 October 2011 at 465 Tagore Industrial avenue, SRI Building with up to 80% off. Items include hobs, cooker hoods, built-in ovens, fans, steamer, cookers, water heaters and more. For more information, visit [ http://singpromos.com/household/tecno-tecnogas-uno-warehouse-sale-28-30-oct-2011-17510/ ]. 
LOCATION:
URL:http://singpromos.com/household/tecno-tecnogas-uno-warehouse-sale-28-30-oct-2011-17510/
END:VEVENT
END:VCALENDAR