BEGIN:VCALENDAR
PRODID:-//SINGPromos.com//NONSGML v1.0//EN
VERSION:2.0
CALSCALE:GREGORIAN
METHOD:PUBLISH
X-WR-CALNAME:SINGPromos.com
X-ORIGINAL-URL:http://singpromos.com
X-WR-CALDESC:Events for SINGPromos.com
BEGIN:VEVENT
DTSTART:20160426T000000
DTEND:20160427T235900
DTSTAMP:20260420T074732
CREATED:20160426T003705
LAST-MODIFIED:20160426T115651
UID:177723@http://singpromos.com
SUMMARY:SK-II S$154 Cellumination Aura Essence 50ml 48hr Deal from 26 - 27 Apr 2016
DESCRIPTION:Get the SK-II Cellumination Aura Essence 50ml at just $154 inclusive of shipping. Made from SK-II's very own Soft Aura White Cocktail, combined with their signature ingredient, the Pitera gives you translucent skin. DBS/POSB card required. For more information, visit [ http://singpromos.com/beauty/sk-ii-s154-50ml-cellumination-aura-essence-48hr-deal-from-26-27-apr-2016-177723/ ]. 
LOCATION:
URL:http://singpromos.com/beauty/sk-ii-s154-50ml-cellumination-aura-essence-48hr-deal-from-26-27-apr-2016-177723/
END:VEVENT
END:VCALENDAR