BEGIN:VCALENDAR
PRODID:-//SINGPromos.com//NONSGML v1.0//EN
VERSION:2.0
CALSCALE:GREGORIAN
METHOD:PUBLISH
X-WR-CALNAME:SINGPromos.com
X-ORIGINAL-URL:http://singpromos.com
X-WR-CALDESC:Events for SINGPromos.com
BEGIN:VEVENT
DTSTART:20160513T000000
DTEND:20160518T235900
DTSTAMP:20260422T211110
CREATED:20160513T223352
LAST-MODIFIED:20160513T223438
UID:179011@http://singpromos.com
SUMMARY:Cold Storage USA Strawberries (1-for-1), Norway Salmon, Avocados & More from 13 - 18 May 2016
DESCRIPTION:Check out Cold Storage's latest offers featuring Avocados 3 for $5.99, Driscoll's Strawberries 1-for-1, Wall's Magnum Mini Ice Cream Any 2 $15.90 and more. For more information, visit [ http://singpromos.com/dining-restaurants-food/cold-storage-usa-strawberries-1-for-1-norway-salmon-avocados-more-from-13-18-may-2016-179011/ ]. 
LOCATION:
URL:http://singpromos.com/dining-restaurants-food/cold-storage-usa-strawberries-1-for-1-norway-salmon-avocados-more-from-13-18-may-2016-179011/
END:VEVENT
END:VCALENDAR