BEGIN:VCALENDAR
PRODID:-//SINGPromos.com//NONSGML v1.0//EN
VERSION:2.0
CALSCALE:GREGORIAN
METHOD:PUBLISH
X-WR-CALNAME:SINGPromos.com
X-ORIGINAL-URL:http://singpromos.com
X-WR-CALDESC:Events for SINGPromos.com
BEGIN:VEVENT
DTSTART:20160526T000000
DTEND:20160529T235900
DTSTAMP:20260422T080025
CREATED:20160519T203515
LAST-MODIFIED:20160527T132821
UID:179485@http://singpromos.com
SUMMARY:Consumer Electronics Exhibition (CEE) at Suntec from 26 - 29 May 2016
DESCRIPTION:Consumer Electronics Exhibition (CEE) will be held over 4 days featuring up to 90% savings on IT products and accessories, ranging from mobile phones, desktop computers, portable laptops, digital cameras to the e-mobility vehicles.. For more information, visit [ http://singpromos.com/happenings/consumer-electronics-exhibition-cee-at-suntec-from-26-29-may-2016-179485/ ]. 
LOCATION:039593
URL:http://singpromos.com/happenings/consumer-electronics-exhibition-cee-at-suntec-from-26-29-may-2016-179485/
END:VEVENT
END:VCALENDAR