BEGIN:VCALENDAR
PRODID:-//SINGPromos.com//NONSGML v1.0//EN
VERSION:2.0
CALSCALE:GREGORIAN
METHOD:PUBLISH
X-WR-CALNAME:SINGPromos.com
X-ORIGINAL-URL:http://singpromos.com
X-WR-CALDESC:Events for SINGPromos.com
BEGIN:VEVENT
DTSTART:20160530T000000
DTEND:20160605T235900
DTSTAMP:20260420T045219
CREATED:20160530T190928
LAST-MODIFIED:20160530T191157
UID:180480@http://singpromos.com
SUMMARY:Sylvanian Families Atrium Event at Plaza Singapura from 30 May - 5 Jun 2016
DESCRIPTION:Hamleys Sylvanian Families is celebrating their first Anniversary with offers at the Plaza Singapura Shopping Centre Atrium event till 5 June 2016. For more information, visit [ http://singpromos.com/happenings/sylvanian-families-atrium-event-at-plaza-singapura-from-30-may-5-jun-2016-180480/ ]. 
LOCATION:238839
URL:http://singpromos.com/happenings/sylvanian-families-atrium-event-at-plaza-singapura-from-30-may-5-jun-2016-180480/
END:VEVENT
END:VCALENDAR