BEGIN:VCALENDAR
PRODID:-//SINGPromos.com//NONSGML v1.0//EN
VERSION:2.0
CALSCALE:GREGORIAN
METHOD:PUBLISH
X-WR-CALNAME:SINGPromos.com
X-ORIGINAL-URL:http://singpromos.com
X-WR-CALDESC:Events for SINGPromos.com
BEGIN:VEVENT
DTSTART:20160624T000000
DTEND:20160630T235900
DTSTAMP:20260420T055705
CREATED:20160619T153612
LAST-MODIFIED:20160606T194033
UID:181207@http://singpromos.com
SUMMARY:Timberland Up To 60% Off Sale at Isetan Scotts from 24 - 30 Jun 2016
DESCRIPTION:Timberland will be having a sale at Isetan Scotts at Shaw House from 24 June to 30 Jun 2016. Enjoy up to 60% off men's and women's apparel and footwear. For more information, visit [ http://singpromos.com/happenings/timberland-up-to-60-off-sale-at-isetan-scotts-from-24-30-jun-2016-181207/ ]. 
LOCATION:238868
URL:http://singpromos.com/happenings/timberland-up-to-60-off-sale-at-isetan-scotts-from-24-30-jun-2016-181207/
END:VEVENT
END:VCALENDAR