BEGIN:VCALENDAR
PRODID:-//SINGPromos.com//NONSGML v1.0//EN
VERSION:2.0
CALSCALE:GREGORIAN
METHOD:PUBLISH
X-WR-CALNAME:SINGPromos.com
X-ORIGINAL-URL:http://singpromos.com
X-WR-CALDESC:Events for SINGPromos.com
BEGIN:VEVENT
DTSTART:20160614T000000
DTEND:20160616T235900
DTSTAMP:20260420T005752
CREATED:20160614T162051
LAST-MODIFIED:20160614T142622
UID:181850@http://singpromos.com
SUMMARY:Cebu Pacific $99 all-in Manila Promo Fares from 14 - 16 Jun 2016
DESCRIPTION:Go dolphin-watching all day. Singapore to Manila for as low as $99 all-in. For more information, visit [ http://singpromos.com/airlines-flights/cebu-pacific-99-all-in-manila-promo-fares-from-14-16-jun-2016-181850/ ]. 
LOCATION:
URL:http://singpromos.com/airlines-flights/cebu-pacific-99-all-in-manila-promo-fares-from-14-16-jun-2016-181850/
END:VEVENT
END:VCALENDAR