BEGIN:VCALENDAR
PRODID:-//SINGPromos.com//NONSGML v1.0//EN
VERSION:2.0
CALSCALE:GREGORIAN
METHOD:PUBLISH
X-WR-CALNAME:SINGPromos.com
X-ORIGINAL-URL:http://singpromos.com
X-WR-CALDESC:Events for SINGPromos.com
BEGIN:VEVENT
DTSTART:20160614T000000
DTEND:20160814T235900
DTSTAMP:20260420T005758
CREATED:20160614T164755
LAST-MODIFIED:20160815T220146
UID:181854@http://singpromos.com
SUMMARY:FoodPanda: 10% OFF ($25 Min Spend) Coupon Code (ALL Customers) from 14 Jun 2016
DESCRIPTION:Enjoy 10% OFF at FoodPanda for a limited time only! One time use only. Valid for ALL customers. $25 min spend.. For more information, visit [ http://singpromos.com/dining-restaurants-food/foodpanda-10-off-25-min-spend-coupon-code-all-customers-from-14-jun-2016-181854/ ]. 
LOCATION:
URL:http://singpromos.com/dining-restaurants-food/foodpanda-10-off-25-min-spend-coupon-code-all-customers-from-14-jun-2016-181854/
END:VEVENT
END:VCALENDAR