BEGIN:VCALENDAR
PRODID:-//SINGPromos.com//NONSGML v1.0//EN
VERSION:2.0
CALSCALE:GREGORIAN
METHOD:PUBLISH
X-WR-CALNAME:SINGPromos.com
X-ORIGINAL-URL:http://singpromos.com
X-WR-CALDESC:Events for SINGPromos.com
BEGIN:VEVENT
DTSTART:20160614T000000
DTEND:20160626T235900
DTSTAMP:20260420T005758
CREATED:20160614T165941
LAST-MODIFIED:20160614T165941
UID:181856@http://singpromos.com
SUMMARY:Zuji Singapore 12% OFF Hotels Coupon Code & 2% Off Flights for AMEX Cardmembers from 14 - 26 Jun 2016
DESCRIPTION:Search over 150,000 hotels at discounted rates and get an additional 12% OFF with this coupon code for AMEX cardmembers. For more information, visit [ http://singpromos.com/vacations/zuji-singapore-12-off-hotels-coupon-code-2-off-flights-for-amex-cardmembers-from-14-26-jun-2016-181856/ ]. 
LOCATION:
URL:http://singpromos.com/vacations/zuji-singapore-12-off-hotels-coupon-code-2-off-flights-for-amex-cardmembers-from-14-26-jun-2016-181856/
END:VEVENT
END:VCALENDAR