BEGIN:VCALENDAR
PRODID:-//SINGPromos.com//NONSGML v1.0//EN
VERSION:2.0
CALSCALE:GREGORIAN
METHOD:PUBLISH
X-WR-CALNAME:SINGPromos.com
X-ORIGINAL-URL:http://singpromos.com
X-WR-CALDESC:Events for SINGPromos.com
BEGIN:VEVENT
DTSTART:20160614T000000
DTEND:20160731T235900
DTSTAMP:20260420T005759
CREATED:20160614T170603
LAST-MODIFIED:20160802T015909
UID:181859@http://singpromos.com
SUMMARY:Zuji 8% OFF Hotels Coupon Code (NO Min Spend) from 14 Jun 2016
DESCRIPTION:Search over 150,000 hotels at discounted rates and get an additional 8% OFF with this coupon code. For more information, visit [ http://singpromos.com/vacations/zuji-8-off-hotels-coupon-code-no-min-spend-from-14-jun-2016-181859/ ]. 
LOCATION:
URL:http://singpromos.com/vacations/zuji-8-off-hotels-coupon-code-no-min-spend-from-14-jun-2016-181859/
END:VEVENT
END:VCALENDAR