BEGIN:VCALENDAR
PRODID:-//SINGPromos.com//NONSGML v1.0//EN
VERSION:2.0
CALSCALE:GREGORIAN
METHOD:PUBLISH
X-WR-CALNAME:SINGPromos.com
X-ORIGINAL-URL:http://singpromos.com
X-WR-CALDESC:Events for SINGPromos.com
BEGIN:VEVENT
DTSTART:20160614T000000
DTEND:20160930T235900
DTSTAMP:20260420T005751
CREATED:20160614T173747
LAST-MODIFIED:20160812T020701
UID:181861@http://singpromos.com
SUMMARY:O'Coffee Club 1-for-1 Takeaway Hot Beverages on Weekdays from 14 Jun 2016
DESCRIPTION:Enjoy 1-for-1 hot beverages at O'Coffee Club when you order take-away at any of their outlets islandwide. Choose from hot Chocolate, Vanilla, Hot Matcha and Gourmet Tea. For more information, visit [ http://singpromos.com/dining-restaurants-food/ocoffee-club-1-for-1-hot-beverages-from-14-jun-2016-181861/ ]. 
LOCATION:
URL:http://singpromos.com/dining-restaurants-food/ocoffee-club-1-for-1-hot-beverages-from-14-jun-2016-181861/
END:VEVENT
END:VCALENDAR