BEGIN:VCALENDAR
PRODID:-//SINGPromos.com//NONSGML v1.0//EN
VERSION:2.0
CALSCALE:GREGORIAN
METHOD:PUBLISH
X-WR-CALNAME:SINGPromos.com
X-ORIGINAL-URL:http://singpromos.com
X-WR-CALDESC:Events for SINGPromos.com
BEGIN:VEVENT
DTSTART:20160614T000000
DTEND:20160630T235900
DTSTAMP:20260420T005759
CREATED:20160614T175955
LAST-MODIFIED:20160614T175955
UID:181871@http://singpromos.com
SUMMARY:Standard Chartered 1.55% p.a. 10-mth SGD Time Deposit Promo from 14 - 30 Jun 2016
DESCRIPTION:Earn 1.55% p.a. interest on your 10-month SGD Time Deposit today when you deposit minimum fresh funds of S$25,000.. For more information, visit [ http://singpromos.com/banks-credit-cards/standard-chartered-1-55-p-a-10-mth-sgd-time-deposit-promo-from-14-30-jun-2016-181871/ ]. 
LOCATION:
URL:http://singpromos.com/banks-credit-cards/standard-chartered-1-55-p-a-10-mth-sgd-time-deposit-promo-from-14-30-jun-2016-181871/
END:VEVENT
END:VCALENDAR