BEGIN:VCALENDAR
PRODID:-//SINGPromos.com//NONSGML v1.0//EN
VERSION:2.0
CALSCALE:GREGORIAN
METHOD:PUBLISH
X-WR-CALNAME:SINGPromos.com
X-ORIGINAL-URL:http://singpromos.com
X-WR-CALDESC:Events for SINGPromos.com
BEGIN:VEVENT
DTSTART:20160615T000000
DTEND:20170131T235900
DTSTAMP:20260420T023940
CREATED:20160615T140020
LAST-MODIFIED:20170109T121821
UID:181890@http://singpromos.com
SUMMARY:Pizza Hut 1-for-1 lunch deals (pizzas, pastas, entrees & more) on weekdays
DESCRIPTION:Enjoy two of your favourites for the price of one with Pizza Hut's 1-for-1 Weekday Lunch promotion. Promotion valid from Mondays to Fridays, 11am to 5pm for dine-in only.. For more information, visit [ http://singpromos.com/dining-restaurants-food/pizza-hut-1-for-1-lunch-deals-on-weekdays-from-15-jun-2-aug-2016-181890/ ]. 
LOCATION:
URL:http://singpromos.com/dining-restaurants-food/pizza-hut-1-for-1-lunch-deals-on-weekdays-from-15-jun-2-aug-2016-181890/
END:VEVENT
END:VCALENDAR