BEGIN:VCALENDAR
PRODID:-//SINGPromos.com//NONSGML v1.0//EN
VERSION:2.0
CALSCALE:GREGORIAN
METHOD:PUBLISH
X-WR-CALNAME:SINGPromos.com
X-ORIGINAL-URL:http://singpromos.com
X-WR-CALDESC:Events for SINGPromos.com
BEGIN:VEVENT
DTSTART:20160615T000000
DTEND:20171221T235900
DTSTAMP:20260420T005758
CREATED:20160615T112514
LAST-MODIFIED:20180101T134135
UID:181898@http://singpromos.com
SUMMARY:Pizza Hut Delivery 1-for-1 Regular Pan Pizza Coupon Code from 15 Jun 2016
DESCRIPTION:Use this coupon code to enjoy Buy 1 Get 1 Free Regular Pan Pizza with Pizza Hut delivery orders. Choose from Hawaiian, Meat Galore, Super Supreme, Curry Chicken, Chicken Supreme, Veggie Lover's, Pepperoni, Chicken Pepperoni. For more information, visit [ http://singpromos.com/dining-restaurants-food/pizza-hut-delivery-1-for-1-regular-pan-pizza-coupon-code-from-15-jun-2016-181898/ ]. 
LOCATION:
URL:http://singpromos.com/dining-restaurants-food/pizza-hut-delivery-1-for-1-regular-pan-pizza-coupon-code-from-15-jun-2016-181898/
END:VEVENT
END:VCALENDAR