BEGIN:VCALENDAR
PRODID:-//SINGPromos.com//NONSGML v1.0//EN
VERSION:2.0
CALSCALE:GREGORIAN
METHOD:PUBLISH
X-WR-CALNAME:SINGPromos.com
X-ORIGINAL-URL:http://singpromos.com
X-WR-CALDESC:Events for SINGPromos.com
BEGIN:VEVENT
DTSTART:20160616T000000
DTEND:20160626T235900
DTSTAMP:20260420T023853
CREATED:20160616T042128
LAST-MODIFIED:20160616T003343
UID:181933@http://singpromos.com
SUMMARY:Swensen's Free Upsize for Regular Earthquake Ice Cream at Marina Square from 16 - 26 Jun 2016
DESCRIPTION:Enjoy a free upgrade to 'Giant Earthquake' when you order a 'Regular Earthquake' at Marina Square Swensen's, #01-206/207. For more information, visit [ http://singpromos.com/dining-restaurants-food/swensens-free-upsize-for-regular-earthquake-ice-cream-at-marina-square-from-16-26-jun-2016-181933/ ]. 
LOCATION:039594
URL:http://singpromos.com/dining-restaurants-food/swensens-free-upsize-for-regular-earthquake-ice-cream-at-marina-square-from-16-26-jun-2016-181933/
END:VEVENT
END:VCALENDAR