BEGIN:VCALENDAR
PRODID:-//SINGPromos.com//NONSGML v1.0//EN
VERSION:2.0
CALSCALE:GREGORIAN
METHOD:PUBLISH
X-WR-CALNAME:SINGPromos.com
X-ORIGINAL-URL:http://singpromos.com
X-WR-CALDESC:Events for SINGPromos.com
BEGIN:VEVENT
DTSTART:20160618T000000
DTEND:20160619T235900
DTSTAMP:20260420T023853
CREATED:20160616T094219
LAST-MODIFIED:20160616T004438
UID:181936@http://singpromos.com
SUMMARY:Dunkin' Donuts Buy 6 Donuts & Get 1 Free from 18 - 19 Jun 2016
DESCRIPTION:Anyone can be a father, but it takes someone special to be a donut-lovin' dad! Fathers enjoy a FREE regular donut with 6 or 12 donuts purchased on 18-19 Jun!. For more information, visit [ http://singpromos.com/dining-restaurants-food/dunkin-donuts-buy-6-donuts-get-1-free-from-18-19-jun-2016-181936/ ]. 
LOCATION:
URL:http://singpromos.com/dining-restaurants-food/dunkin-donuts-buy-6-donuts-get-1-free-from-18-19-jun-2016-181936/
END:VEVENT
END:VCALENDAR