BEGIN:VCALENDAR
PRODID:-//SINGPromos.com//NONSGML v1.0//EN
VERSION:2.0
CALSCALE:GREGORIAN
METHOD:PUBLISH
X-WR-CALNAME:SINGPromos.com
X-ORIGINAL-URL:http://singpromos.com
X-WR-CALDESC:Events for SINGPromos.com
BEGIN:VEVENT
DTSTART:20160616T000000
DTEND:20160803T235900
DTSTAMP:20260420T023940
CREATED:20160616T005548
LAST-MODIFIED:20160803T003556
UID:181939@http://singpromos.com
SUMMARY:Pizza Hut Delivery $22 for Four Personal Pan Pizzas from 16 Jun 2016
DESCRIPTION:Pizza Hut has launched an all-new Pan-Tastic 4 where you can make ‪fantastic choices‬ with four different personal pan pizzas in 1 box for just $22. For more information, visit [ http://singpromos.com/dining-restaurants-food/pizza-hut-delivery-22-for-four-personal-pan-pizzas-from-16-jun-2016-181939/ ]. 
LOCATION:
URL:http://singpromos.com/dining-restaurants-food/pizza-hut-delivery-22-for-four-personal-pan-pizzas-from-16-jun-2016-181939/
END:VEVENT
END:VCALENDAR